BEGIN:VCALENDAR
VERSION:2.0
PRODID:-//Unsernherrn - ECPv6.15.20//NONSGML v1.0//EN
CALSCALE:GREGORIAN
METHOD:PUBLISH
X-ORIGINAL-URL:https://unsernherrn.de
X-WR-CALDESC:Veranstaltungen für Unsernherrn
REFRESH-INTERVAL;VALUE=DURATION:PT1H
X-Robots-Tag:noindex
X-PUBLISHED-TTL:PT1H
BEGIN:VTIMEZONE
TZID:Europe/Berlin
BEGIN:DAYLIGHT
TZOFFSETFROM:+0100
TZOFFSETTO:+0200
TZNAME:CEST
DTSTART:20230326T010000
END:DAYLIGHT
BEGIN:STANDARD
TZOFFSETFROM:+0200
TZOFFSETTO:+0100
TZNAME:CET
DTSTART:20231029T010000
END:STANDARD
BEGIN:DAYLIGHT
TZOFFSETFROM:+0100
TZOFFSETTO:+0200
TZNAME:CEST
DTSTART:20240331T010000
END:DAYLIGHT
BEGIN:STANDARD
TZOFFSETFROM:+0200
TZOFFSETTO:+0100
TZNAME:CET
DTSTART:20241027T010000
END:STANDARD
BEGIN:DAYLIGHT
TZOFFSETFROM:+0100
TZOFFSETTO:+0200
TZNAME:CEST
DTSTART:20250330T010000
END:DAYLIGHT
BEGIN:STANDARD
TZOFFSETFROM:+0200
TZOFFSETTO:+0100
TZNAME:CET
DTSTART:20251026T010000
END:STANDARD
BEGIN:DAYLIGHT
TZOFFSETFROM:+0100
TZOFFSETTO:+0200
TZNAME:CEST
DTSTART:20260329T010000
END:DAYLIGHT
BEGIN:STANDARD
TZOFFSETFROM:+0200
TZOFFSETTO:+0100
TZNAME:CET
DTSTART:20261025T010000
END:STANDARD
BEGIN:DAYLIGHT
TZOFFSETFROM:+0100
TZOFFSETTO:+0200
TZNAME:CEST
DTSTART:20270328T010000
END:DAYLIGHT
BEGIN:STANDARD
TZOFFSETFROM:+0200
TZOFFSETTO:+0100
TZNAME:CET
DTSTART:20271031T010000
END:STANDARD
END:VTIMEZONE
BEGIN:VEVENT
DTSTART;TZID=Europe/Berlin:20251231T220000
DTEND;TZID=Europe/Berlin:20260101T010000
DTSTAMP:20260422T153655
CREATED:20251211T200716Z
LAST-MODIFIED:20251211T200716Z
UID:406-1767218400-1767229200@unsernherrn.de
SUMMARY:Silvester im Dorf
DESCRIPTION:
URL:https://unsernherrn.de/kalender/silvester-im-dorf/
LOCATION:Dorfplatz\, Dorfstraße\, Ingolstadt\, Bayern\, 85051\, Deutschland
END:VEVENT
BEGIN:VEVENT
DTSTART;TZID=Europe/Berlin:20251221T150000
DTEND;TZID=Europe/Berlin:20251221T200000
DTSTAMP:20260422T153655
CREATED:20251209T182235Z
LAST-MODIFIED:20251209T182235Z
UID:397-1766329200-1766347200@unsernherrn.de
SUMMARY:Herbergssuche
DESCRIPTION:
URL:https://unsernherrn.de/kalender/herbergssuche/
LOCATION:Kirche
END:VEVENT
BEGIN:VEVENT
DTSTART;TZID=Europe/Berlin:20251220T150000
DTEND;TZID=Europe/Berlin:20251220T200000
DTSTAMP:20260422T153655
CREATED:20251211T200435Z
LAST-MODIFIED:20251211T200435Z
UID:401-1766242800-1766260800@unsernherrn.de
SUMMARY:Adventsfunkeln
DESCRIPTION:
URL:https://unsernherrn.de/kalender/adventsfunkeln/
LOCATION:Feuerwehrhaus\, Karl-Theodor-Straße 7\, Ingolstadt\, Bayern\, 85051\, Deutschland
END:VEVENT
BEGIN:VEVENT
DTSTART;TZID=Europe/Berlin:20251011T180000
DTEND;TZID=Europe/Berlin:20251012T170000
DTSTAMP:20260422T153655
CREATED:20250927T123301Z
LAST-MODIFIED:20250927T123301Z
UID:391-1760205600-1760288400@unsernherrn.de
SUMMARY:Krautfest 2025
DESCRIPTION:Krautfest2025
URL:https://unsernherrn.de/kalender/krautfest-2025/
LOCATION:Gemüsehof Wöhrl\, Aubürgerstraße 11\, Ingolstadt\, Bayern\, 85051\, Deutschland
END:VEVENT
BEGIN:VEVENT
DTSTART;TZID=Europe/Berlin:20250621T150000
DTEND;TZID=Europe/Berlin:20250621T230000
DTSTAMP:20260422T153655
CREATED:20250612T175113Z
LAST-MODIFIED:20250613T110935Z
UID:379-1750518000-1750546800@unsernherrn.de
SUMMARY:Dorffest 2025
DESCRIPTION:Dorffest Flyer25
URL:https://unsernherrn.de/kalender/dorffest-2025/
LOCATION:Dorfplatz\, Dorfstraße\, Ingolstadt\, Bayern\, 85051\, Deutschland
END:VEVENT
BEGIN:VEVENT
DTSTART;TZID=Europe/Berlin:20241215T170000
DTEND;TZID=Europe/Berlin:20241215T210000
DTSTAMP:20260422T153655
CREATED:20241209T201504Z
LAST-MODIFIED:20241209T201504Z
UID:214-1734282000-1734296400@unsernherrn.de
SUMMARY:traditionelles Adventssingen
DESCRIPTION:
URL:https://unsernherrn.de/kalender/traditionelles-adventssingen/
LOCATION:Gemüsehof Wöhrl\, Aubürgerstraße 11\, Ingolstadt\, Bayern\, 85051\, Deutschland
END:VEVENT
BEGIN:VEVENT
DTSTART;TZID=Europe/Berlin:20240818T080000
DTEND;TZID=Europe/Berlin:20240818T170000
DTSTAMP:20260422T153655
CREATED:20240507T093532Z
LAST-MODIFIED:20240507T093532Z
UID:199-1723968000-1724000400@unsernherrn.de
SUMMARY:Sommerfest\, 120 Jahrfeier
DESCRIPTION:
URL:https://unsernherrn.de/kalender/sommerfest-120-jahrfeier/
LOCATION:Bayern
END:VEVENT
BEGIN:VEVENT
DTSTART;VALUE=DATE:20240816
DTEND;VALUE=DATE:20240824
DTSTAMP:20260422T153655
CREATED:20240507T093743Z
LAST-MODIFIED:20240507T093743Z
UID:203-1723766400-1724457599@unsernherrn.de
SUMMARY:Barthelmarkt
DESCRIPTION:
URL:https://unsernherrn.de/kalender/barthelmarkt/
LOCATION:Bayern
END:VEVENT
BEGIN:VEVENT
DTSTART;TZID=Europe/Berlin:20240815T100000
DTEND;TZID=Europe/Berlin:20240815T200000
DTSTAMP:20260422T153655
CREATED:20240507T093537Z
LAST-MODIFIED:20240507T093537Z
UID:197-1723716000-1723752000@unsernherrn.de
SUMMARY:Familienfest
DESCRIPTION:
URL:https://unsernherrn.de/kalender/familienfest/
LOCATION:Gemüsehof Wöhrl\, Aubürgerstraße 11\, Ingolstadt\, Bayern\, 85051\, Deutschland
END:VEVENT
BEGIN:VEVENT
DTSTART;TZID=Europe/Berlin:20240730T140000
DTEND;TZID=Europe/Berlin:20240730T200000
DTSTAMP:20260422T153655
CREATED:20240507T093545Z
LAST-MODIFIED:20240507T093545Z
UID:195-1722348000-1722369600@unsernherrn.de
SUMMARY:Sommerfest
DESCRIPTION:Sommerfest mit Sautrogrennen
URL:https://unsernherrn.de/kalender/sommerfest/
LOCATION:Feuerwehrhaus\, Karl-Theodor-Straße 7\, Ingolstadt\, Bayern\, 85051\, Deutschland
END:VEVENT
BEGIN:VEVENT
DTSTART;TZID=Europe/Berlin:20240726T183000
DTEND;TZID=Europe/Berlin:20240726T183000
DTSTAMP:20260422T153655
CREATED:20240507T093550Z
LAST-MODIFIED:20240507T093550Z
UID:193-1722018600-1722018600@unsernherrn.de
SUMMARY:Sommerfest
DESCRIPTION:
URL:https://unsernherrn.de/kalender/sommerfest-2/
LOCATION:Feuerwehrhaus\, Karl-Theodor-Straße 7\, Ingolstadt\, Bayern\, 85051\, Deutschland
END:VEVENT
BEGIN:VEVENT
DTSTART;TZID=Europe/Berlin:20240707T093000
DTEND;TZID=Europe/Berlin:20240707T170000
DTSTAMP:20260422T153655
CREATED:20240507T093556Z
LAST-MODIFIED:20240507T093556Z
UID:191-1720344600-1720371600@unsernherrn.de
SUMMARY:Pfarrfest
DESCRIPTION:
URL:https://unsernherrn.de/kalender/pfarrfest/
LOCATION:Kirche
END:VEVENT
BEGIN:VEVENT
DTSTART;VALUE=DATE:20240703
DTEND;VALUE=DATE:20240704
DTSTAMP:20260422T153655
CREATED:20240507T093645Z
LAST-MODIFIED:20240507T093645Z
UID:189-1719964800-1720051199@unsernherrn.de
SUMMARY:Teilnahme LGS Kirchheim
DESCRIPTION:
URL:https://unsernherrn.de/kalender/teilnahme-lgs-kirchheim/
LOCATION:Bayern
END:VEVENT
BEGIN:VEVENT
DTSTART;TZID=Europe/Berlin:20240622T150000
DTEND;TZID=Europe/Berlin:20240622T230000
DTSTAMP:20260422T153655
CREATED:20240507T093601Z
LAST-MODIFIED:20250612T174912Z
UID:187-1719068400-1719097200@unsernherrn.de
SUMMARY:Dorffest
DESCRIPTION:
URL:https://unsernherrn.de/kalender/dorffest/
LOCATION:Dorfplatz\, Dorfstraße\, Ingolstadt\, Bayern\, 85051\, Deutschland
END:VEVENT
BEGIN:VEVENT
DTSTART;TZID=Europe/Berlin:20240622T080000
DTEND;TZID=Europe/Berlin:20240622T170000
DTSTAMP:20260422T153655
CREATED:20240507T093606Z
LAST-MODIFIED:20240507T093606Z
UID:185-1719043200-1719075600@unsernherrn.de
SUMMARY:Pfarrfest Ringsee
DESCRIPTION:
URL:https://unsernherrn.de/kalender/pfarrfest-ringsee/
LOCATION:Bayern
END:VEVENT
BEGIN:VEVENT
DTSTART;TZID=Europe/Berlin:20240616T050000
DTEND;TZID=Europe/Berlin:20240616T170000
DTSTAMP:20260422T153655
CREATED:20240507T093611Z
LAST-MODIFIED:20240507T093611Z
UID:183-1718514000-1718557200@unsernherrn.de
SUMMARY:Wallfahrt nach Bettbrunn
DESCRIPTION:
URL:https://unsernherrn.de/kalender/wallfahrt-nach-bettbrunn/
LOCATION:Kirche
END:VEVENT
BEGIN:VEVENT
DTSTART;VALUE=DATE:20240609
DTEND;VALUE=DATE:20240610
DTSTAMP:20260422T153655
CREATED:20240507T093616Z
LAST-MODIFIED:20240507T093616Z
UID:181-1717891200-1717977599@unsernherrn.de
SUMMARY:Triathlon
DESCRIPTION:
URL:https://unsernherrn.de/kalender/triathlon/
LOCATION:Bayern
END:VEVENT
BEGIN:VEVENT
DTSTART;TZID=Europe/Berlin:20240530T150000
DTEND;TZID=Europe/Berlin:20240530T170000
DTSTAMP:20260422T153655
CREATED:20240507T093627Z
LAST-MODIFIED:20240507T093627Z
UID:178-1717081200-1717088400@unsernherrn.de
SUMMARY:Kameradschaftstreffen
DESCRIPTION:
URL:https://unsernherrn.de/kalender/kameradschaftstreffen/
LOCATION:Peterwirt\, Dorfstraße 2\, Ingolstadt\, Bayern\, 85051\, Deutschland
END:VEVENT
BEGIN:VEVENT
DTSTART;TZID=Europe/Berlin:20240530T083000
DTEND;TZID=Europe/Berlin:20240530T170000
DTSTAMP:20260422T153655
CREATED:20240507T093633Z
LAST-MODIFIED:20240507T093633Z
UID:176-1717057800-1717088400@unsernherrn.de
SUMMARY:Fronleichnam
DESCRIPTION:
URL:https://unsernherrn.de/kalender/fronleichnam/
LOCATION:Kirche
END:VEVENT
BEGIN:VEVENT
DTSTART;TZID=Europe/Berlin:20240526T190000
DTEND;TZID=Europe/Berlin:20240526T190000
DTSTAMP:20260422T153655
CREATED:20240507T093639Z
LAST-MODIFIED:20240507T093639Z
UID:173-1716750000-1716750000@unsernherrn.de
SUMMARY:Maiandacht Niederfeld
DESCRIPTION:
URL:https://unsernherrn.de/kalender/maiandacht-niederfeld/
LOCATION:Kapelle
END:VEVENT
BEGIN:VEVENT
DTSTART;VALUE=DATE:20240518
DTEND;VALUE=DATE:20240519
DTSTAMP:20260422T153655
CREATED:20240507T093521Z
LAST-MODIFIED:20240507T093816Z
UID:171-1715990400-1716076799@unsernherrn.de
SUMMARY:Maiandacht Brunnenreuth
DESCRIPTION:
URL:https://unsernherrn.de/kalender/mainandacht-brunnenreuth/
LOCATION:Kirche
END:VEVENT
BEGIN:VEVENT
DTSTART;TZID=Europe/Berlin:20240512T183000
DTEND;TZID=Europe/Berlin:20240512T183000
DTSTAMP:20260422T153655
CREATED:20240507T093516Z
LAST-MODIFIED:20240507T093949Z
UID:169-1715538600-1715538600@unsernherrn.de
SUMMARY:Maiandacht
DESCRIPTION:
URL:https://unsernherrn.de/kalender/maiandacht/
LOCATION:Bayern
END:VEVENT
BEGIN:VEVENT
DTSTART;TZID=Europe/Berlin:20240501T130000
DTEND;TZID=Europe/Berlin:20240501T150000
DTSTAMP:20260422T153655
CREATED:20240308T111137Z
LAST-MODIFIED:20240308T111137Z
UID:164-1714568400-1714575600@unsernherrn.de
SUMMARY:Maibaumaufstellen
DESCRIPTION:
URL:https://unsernherrn.de/kalender/maibaumaufstellen/
LOCATION:Dorfplatz\, Dorfstraße\, Ingolstadt\, Bayern\, 85051\, Deutschland
END:VEVENT
BEGIN:VEVENT
DTSTART;VALUE=DATE:20240420
DTEND;VALUE=DATE:20240421
DTSTAMP:20260422T153655
CREATED:20240308T105924Z
LAST-MODIFIED:20240308T105924Z
UID:158-1713571200-1713657599@unsernherrn.de
SUMMARY:Halbmarathon
DESCRIPTION:
URL:https://unsernherrn.de/kalender/halbmarathon/
LOCATION:Bayern
END:VEVENT
BEGIN:VEVENT
DTSTART;VALUE=DATE:20240412
DTEND;VALUE=DATE:20240413
DTSTAMP:20260422T153655
CREATED:20240308T105901Z
LAST-MODIFIED:20240308T105901Z
UID:155-1712880000-1712966399@unsernherrn.de
SUMMARY:Frühlingssingen
DESCRIPTION:
URL:https://unsernherrn.de/kalender/fruehlingssingen/
LOCATION:Stangl\, Am Speiselsaum 5\, Ingolstadt\, Bayern\, 85053\, Deutschland
END:VEVENT
BEGIN:VEVENT
DTSTART;VALUE=DATE:20240407
DTEND;VALUE=DATE:20240408
DTSTAMP:20260422T153655
CREATED:20240308T095409Z
LAST-MODIFIED:20240308T095409Z
UID:150-1712448000-1712534399@unsernherrn.de
SUMMARY:Erstkommunion
DESCRIPTION:
URL:https://unsernherrn.de/kalender/erstkommunion/
LOCATION:Kirche
END:VEVENT
BEGIN:VEVENT
DTSTART;TZID=Europe/Berlin:20240330T203000
DTEND;TZID=Europe/Berlin:20240331T000000
DTSTAMP:20260422T153655
CREATED:20240308T095037Z
LAST-MODIFIED:20240308T095037Z
UID:148-1711830600-1711843200@unsernherrn.de
SUMMARY:Osternachtsfeier
DESCRIPTION:
URL:https://unsernherrn.de/kalender/osternachtsfeier/
LOCATION:Kirche
END:VEVENT
BEGIN:VEVENT
DTSTART;TZID=Europe/Berlin:20240322T100000
DTEND;TZID=Europe/Berlin:20240322T110000
DTSTAMP:20260422T153655
CREATED:20240308T094521Z
LAST-MODIFIED:20240308T094521Z
UID:143-1711101600-1711105200@unsernherrn.de
SUMMARY:Osterkrone aufstellen
DESCRIPTION:
URL:https://unsernherrn.de/kalender/osterkrone-aufstellen/
LOCATION:Dorfplatz\, Dorfstraße\, Ingolstadt\, Bayern\, 85051\, Deutschland
END:VEVENT
BEGIN:VEVENT
DTSTART;TZID=Europe/Berlin:20240320T190000
DTEND;TZID=Europe/Berlin:20240320T210000
DTSTAMP:20260422T153655
CREATED:20240308T094422Z
LAST-MODIFIED:20240308T094720Z
UID:141-1710961200-1710968400@unsernherrn.de
SUMMARY:Mitgliederversammlung
DESCRIPTION:
URL:https://unsernherrn.de/kalender/mitgliederversammlung/
LOCATION:Peterwirt\, Dorfstraße 2\, Ingolstadt\, Bayern\, 85051\, Deutschland
END:VEVENT
BEGIN:VEVENT
DTSTART;TZID=Europe/Berlin:20240319T090000
DTEND;TZID=Europe/Berlin:20240319T170000
DTSTAMP:20260422T153655
CREATED:20240308T094345Z
LAST-MODIFIED:20240308T094659Z
UID:139-1710838800-1710867600@unsernherrn.de
SUMMARY:Einkehrtag Schönstatt
DESCRIPTION:
URL:https://unsernherrn.de/kalender/einkehrtag-schoenstatt/
LOCATION:Bayern
END:VEVENT
END:VCALENDAR